BEGIN:VCALENDAR
VERSION:2.0
PRODID:-//wp-events-plugin.com//6.6.5//EN
TZID:Europe/Zurich
X-WR-TIMEZONE:Europe/Zurich
BEGIN:VEVENT
UID:5617@test.iggh.ch
DTSTART;TZID=Europe/Zurich:20260414T173000
DTEND;TZID=Europe/Zurich:20260414T184500
DTSTAMP:20260331T113856Z
URL:https://test.iggh.ch/agenda/webinar-zum-hoergeraet/
SUMMARY:Webinar: In fünf Schritten zum Hörgerät
DESCRIPTION:\n\n\n\n\n\n\nMüssen Sie häufiger nachfragen? Sind Sie imme
 r öfter unsicher\, ob Sie alles richtig verstanden haben? Zum Beispiel i
 m Restaurant\, wenn der Geräuschpegel hoch ist? So geht es vielen.\n\n\n
 \n\n\n\n\n\n\nDas Gehör lässt meist langsam und schleichend nach. Desh
 alb bleibt ein Hörverlust oft über längere Zeit unbemerkt.\n\nWir ze
 igen Ihnen\, wie Sie am besten vorgehen\, wenn Sie merken\, dass Sie nicht
  mehr so gut hören. Wie und wo Sie einen zuverlässigen Hörtest mache
 n können und was Sie wissen müssen\, um die für Sie passenden Hörg
 eräte zu einem fairen Preis zu finden.\n\nSie erfahren alles\, was Sie r
 und ums Hören wissen sollten\, und es bleibt genug Zeit für Ihre Frage
 n.\n\nAnmeldung für das kostenlose Webinar mit Live-Mitschrift bei Pro Au
 dito Schweiz.\n\n\n\n\n\n\n\n\n\n\n&nbsp\;\n\n\n\n\n\n&nbsp\;\n\n\n&nbsp\;
 \n\n\n\n
ATTACH;FMTTYPE=image/jpeg:https://test.iggh.ch/wp-content/uploads/2024/04/
 Bildschirmfoto-2024-04-04-um-09.39.45.png
CATEGORIES:Live-Mitschrift,Webinar
END:VEVENT
BEGIN:VTIMEZONE
TZID:Europe/Zurich
X-LIC-LOCATION:Europe/Zurich
BEGIN:DAYLIGHT
DTSTART:20260329T030000
TZOFFSETFROM:+0100
TZOFFSETTO:+0200
TZNAME:CEST
END:DAYLIGHT
END:VTIMEZONE
END:VCALENDAR