BEGIN:VCALENDAR
VERSION:2.0
PRODID:-//wp-events-plugin.com//7.2.3.1//EN
TZID:Europe/Zurich
X-WR-TIMEZONE:Europe/Zurich
BEGIN:VEVENT
UID:1905@test.iggh.ch
DTSTART;TZID=Europe/Zurich:20220616T133000
DTEND;TZID=Europe/Zurich:20220616T133000
DTSTAMP:20221123T192135Z
URL:https://test.iggh.ch/agenda/treffpunkt-im-walkerhaus-fuer-schwerhoerig
 e-und-gehoerlose-aus-der-ukraine-2022-06-16/
SUMMARY:Treffpunkt im Walkerhaus für Schwerhörige und Gehörlose aus der 
 Ukraine
DESCRIPTION:Für schwerhörige und gehörlose Menschen\, die aus der Ukrain
 e flüchten mussten\, bietet die Beratung für Schwerhörige und Gehörlos
 e BFSUG Bern einen Treffpunkt an.\n\nAlle zwei Wochen findet der Anlass mi
 t Tee und Kaffee statt\, gemäss verlinktem PDF Programm.\n\nPDF Termine T
 reffpunkt Ukraine
ATTACH;FMTTYPE=image/jpeg:https://test.iggh.ch/wp-content/uploads/2022/04/
 refugees-g3e88bf455_1280.png
CATEGORIES:Gebärdensprache,Treffen
END:VEVENT
BEGIN:VTIMEZONE
TZID:Europe/Zurich
X-LIC-LOCATION:Europe/Zurich
BEGIN:DAYLIGHT
DTSTART:20220327T030000
TZOFFSETFROM:+0100
TZOFFSETTO:+0200
TZNAME:CEST
END:DAYLIGHT
END:VTIMEZONE
END:VCALENDAR