BEGIN:VCALENDAR
VERSION:2.0
PRODID:-//wp-events-plugin.com//6.6.5//EN
TZID:Europe/Zurich
X-WR-TIMEZONE:Europe/Zurich
BEGIN:VEVENT
UID:2273@test.iggh.ch
DTSTART;TZID=Europe/Zurich:20220720T143000
DTEND;TZID=Europe/Zurich:20220720T173000
DTSTAMP:20241219T145436Z
URL:https://test.iggh.ch/agenda/treffpunkt-fuer-gehoerlose-seniorinnen-202
 5/
SUMMARY:Treffpunkt für gehörlose Senior:innen - 2025
DESCRIPTION:Leitung\nChantal Bussinger\, Marie-Agnès Hodler\, Ursula Marti
 \n\nDaten\nMittwoch\, 15.01. / 19.02. / 19.08. / 16.04. / 21.05. / 18.06.2
 025*\n\nDauer\n14.30 - 17.30 Uhr\n*16.00- ca. 20.00 Uhr\n\nOrt\nClubraum\,
  Walkerhaus\, Belpstrasse 24\, 3007 Bern\n\nKosten\nKostenlos\n\nAnmeldung
 \nInteressenten (auch Angehörige) sind jederzeit willkommen.
ATTACH;FMTTYPE=image/jpeg:https://test.iggh.ch/wp-content/uploads/2021/11/
 5910_fotobeatrice_290124-scaled.jpg
CATEGORIES:Treffen,Treffpunkt für gehörlose Senior:innen
END:VEVENT
BEGIN:VTIMEZONE
TZID:Europe/Zurich
X-LIC-LOCATION:Europe/Zurich
BEGIN:DAYLIGHT
DTSTART:20220327T030000
TZOFFSETFROM:+0100
TZOFFSETTO:+0200
TZNAME:CEST
END:DAYLIGHT
END:VTIMEZONE
END:VCALENDAR