BEGIN:VCALENDAR
VERSION:2.0
PRODID:-//wp-events-plugin.com//6.6.5//EN
TZID:Europe/Zurich
X-WR-TIMEZONE:Europe/Zurich
BEGIN:VEVENT
UID:5618@test.iggh.ch
DTSTART;TZID=Europe/Zurich:20260708T200000
DTEND;TZID=Europe/Zurich:20260708T200000
DTSTAMP:20260420T210225Z
URL:https://test.iggh.ch/agenda/thunerseespiele-greased-smartphone/
SUMMARY:Thunerseespiele: GREASE mit Smartphone-Höranlage
DESCRIPTION:Im Sommer 2026 verwandelt sich die Thuner Seebühne erneut in e
 ine kleine Wunderwelt. Die Thunerseespiele bringen das Kultmusical GREASE 
 nach Thun und lassen damit die 1950er Jahre mit Pomadeglanz und Rock’n
 ’Roll wieder aufleben.\n\nErstmals erklingen die beliebten Songs in engl
 ischer Originalversion. «Summer Nights»\, «Greased Lightnin'» und viel
 e weitere Melodien werden das Publikum verführen und an laue Abende erin
 nern\, an denen die Welt noch ein wenig einfacher schien.\nInformation der
  Thunerseespiele\nHörunterstützung\nFür Gäste mit Hörbehinderung steh
 t in den Sektoren D und E\, Reihen 10 bis 20\, Hörunterstützung über di
 e App «Sennheiser MobileConnect» zur Verfügung. Diese kann über das ei
 gene Smartphone genutzt werden und lässt sich via Bluetooth direkt mit H
 örgeräten der neuesten Generation verbinden. Das System ist über die ge
 samte Spielzeit aktiv. Auch die Nutzung der App mittels Kopfhörern ist m
 öglich. Bitte bringen Sie dafür ihre eigenen Kopfhörer mit.\n\nDie Hör
 unterstützung ist während der gesamten Spielzeit vom 08. Juli bis 22. Au
 gust 2026 in Betrieb.\n\nWeitere Informationen und Tickets unter www.thune
 rseespiele.ch\n\n&nbsp\;
ATTACH;FMTTYPE=image/jpeg:https://test.iggh.ch/wp-content/uploads/2026/03/
 Grease_KV_Quer_RGB_300dpi.jpg
CATEGORIES:Gebärdensprache DSGS,Kulturelle
 Veranstaltung,Partnerorganisation
END:VEVENT
BEGIN:VTIMEZONE
TZID:Europe/Zurich
X-LIC-LOCATION:Europe/Zurich
BEGIN:DAYLIGHT
DTSTART:20260329T030000
TZOFFSETFROM:+0100
TZOFFSETTO:+0200
TZNAME:CEST
END:DAYLIGHT
END:VTIMEZONE
END:VCALENDAR