BEGIN:VCALENDAR
VERSION:2.0
PRODID:-//wp-events-plugin.com//6.6.5//EN
TZID:Europe/Zurich
X-WR-TIMEZONE:Europe/Zurich
BEGIN:VEVENT
UID:5621@test.iggh.ch
DTSTART;TZID=Europe/Zurich:20260821T193000
DTEND;TZID=Europe/Zurich:20260821T193000
DTSTAMP:20260407T071755Z
URL:https://test.iggh.ch/agenda/thunerseespiele-grease-dsgs/
SUMMARY:Thunerseespiele: GREASE in Gebärdensprache
DESCRIPTION:Die Thunerseespiele bringen das Kultmusical GREASE nach Thun un
 d lassen damit die 1950er Jahre mit Rock’n’Roll wieder aufleben.\n\nIn
 mitten von schnellen Autos\, Haargel und Hüftschwung entflammt eine Liebe
 sgeschichte\, die Kultstatus erlangt hat: Danny\, cooler Anführer der Bur
 ger Palace Boys\, trifft an der Schule unerwartet auf die schüchterne San
 dy\, in die er sich in den Sommerferien verliebt hat. Doch zwischen Highsc
 hool-Gruppen\, Coolness-Kodex und dem Wunsch\, dazuzugehören\, wird die a
 ufkeimende Liebe der beiden auf eine harte Probe gestellt.\nInformation de
 r Thunerseespiele\nVorstellung mit Übersetzung in Gebärdensprache\nDie V
 orstellung mit Übersetzung in Gebärdensprache findet am Freitag\, 21. Au
 gust 2026\, um 19.30 Uhr statt.\n(Reservierte Plätze in den Sektoren D/E\
 , Reihen 4–7\, solange Vorrat)\nVerschiebedatum (Wetter): Montag oder Di
 enstag der Folgewoche.\nPreise &amp\; Buchung\nUm Menschen mit Behinderung
 en den bestmöglichen Service bieten zu können\, bitten wir Sie um Ticket
 buchung via Telefon oder E-Mail direkt bei den Thunerseespielen:\n+41 33 2
 25 05 35 oder ticketing@fbm.ch\nFür die auf dieser Seite aufgeführten An
 gebote gilt:\n\n 	Reduktion von 50 % in den Kategorien 1 – 5\n 	Angebote
  gültig\, so lange Vorrat\n\nLink zur Seite Barrierefreiheit der Thunerse
 espiele\n\nLink zu weiteren Informationen über die Thunerseespiele.
ATTACH;FMTTYPE=image/jpeg:https://test.iggh.ch/wp-content/uploads/2026/03/
 Grease_KV_Quer_RGB_300dpi.jpg
CATEGORIES:Gebärdensprache DSGS,Höranlage (Smartphone App),Kulturelle
 Veranstaltung,Partnerorganisation
END:VEVENT
BEGIN:VTIMEZONE
TZID:Europe/Zurich
X-LIC-LOCATION:Europe/Zurich
BEGIN:DAYLIGHT
DTSTART:20260329T030000
TZOFFSETFROM:+0100
TZOFFSETTO:+0200
TZNAME:CEST
END:DAYLIGHT
END:VTIMEZONE
END:VCALENDAR