BEGIN:VCALENDAR
VERSION:2.0
PRODID:-//wp-events-plugin.com//6.6.5//EN
TZID:Europe/Zurich
X-WR-TIMEZONE:Europe/Zurich
BEGIN:VEVENT
UID:5628@test.iggh.ch
DTSTART;TZID=Europe/Zurich:20260422T143000
DTEND;TZID=Europe/Zurich:20260422T151500
DTSTAMP:20260424T135247Z
URL:https://test.iggh.ch/agenda/test/
SUMMARY:Test
DESCRIPTION:
CATEGORIES:Veranstaltung
END:VEVENT
BEGIN:VTIMEZONE
TZID:Europe/Zurich
X-LIC-LOCATION:Europe/Zurich
BEGIN:DAYLIGHT
DTSTART:20260329T030000
TZOFFSETFROM:+0100
TZOFFSETTO:+0200
TZNAME:CEST
END:DAYLIGHT
END:VTIMEZONE
END:VCALENDAR