BEGIN:VCALENDAR
VERSION:2.0
PRODID:-//wp-events-plugin.com//6.6.5//EN
TZID:Europe/Zurich
X-WR-TIMEZONE:Europe/Zurich
BEGIN:VEVENT
UID:5627@test.iggh.ch
DTSTART;TZID=Europe/Zurich:20260425T003000
DTEND;TZID=Europe/Zurich:20260425T233000
DTSTAMP:20260424T091139Z
URL:https://test.iggh.ch/agenda/test-smf-test/
SUMMARY:TEST SMF TEST
DESCRIPTION:Ganz Klar ein neuer testeintrag der funktioniert wie er sollte
ATTACH;FMTTYPE=image/jpeg:https://test.iggh.ch/wp-content/uploads/2026/04/
 dark_grey_grey_qWqJydb.jpg
CATEGORIES:Veranstaltung
END:VEVENT
BEGIN:VTIMEZONE
TZID:Europe/Zurich
X-LIC-LOCATION:Europe/Zurich
BEGIN:DAYLIGHT
DTSTART:20260329T030000
TZOFFSETFROM:+0100
TZOFFSETTO:+0200
TZNAME:CEST
END:DAYLIGHT
END:VTIMEZONE
END:VCALENDAR