BEGIN:VCALENDAR
VERSION:2.0
PRODID:-//wp-events-plugin.com//6.6.5//EN
TZID:Europe/Zurich
X-WR-TIMEZONE:Europe/Zurich
BEGIN:VEVENT
UID:5614@test.iggh.ch
DTSTART;TZID=Europe/Zurich:20260620T100000
DTEND;TZID=Europe/Zurich:20260620T160000
DTSTAMP:20260325T141104Z
URL:https://test.iggh.ch/agenda/sommerabenteuer/
SUMMARY:Sommerabenteuer in Flumserberg
DESCRIPTION:Der Jugendtreff Eagle Eye wagt in diesem Jahr etwas Besonderes:
  Zum ersten Mal geht es gemeinsam mit Swiss Deaf Youth SDY für ein ganzes
  Wochenende in die Berge. Am 20. und 21. Juni 2026 wartet das Clubhaus Si
 esta am Flumserberg darauf\, entdeckt zu werden. Wer Lust auf frische Berg
 luft\, Bewegung und gutes Zusammensein hat\, ist hier genau richtig.\n\nAu
 f dem Programm steht alles\, was ein Wochenende in den Alpen charmant mach
 t. Klettern\, Rodeln und eine gute Portion gemeinsamer Zeit. Wer zwischend
 urch lieber entspannt\, kann das genauso tun. Das Leitungsteam sorgt dafü
 r\, dass sich alle wohlfühlen\, egal ob Abenteurer oder Geniesser.\n\nDie
  Anmeldung ist unkompliziert. Einfach den QR‑Code auf dem Flyer scannen 
 oder direkt über den Link unten. Teilnehmen können Jugendliche mit Hörb
 eeinträchtigung zwischen 13 und 18 Jahren.\n\nAnmeldung Eagle-Eye-Jugendt
 reff Wochenende
ATTACH;FMTTYPE=image/jpeg:https://test.iggh.ch/wp-content/uploads/2026/03/
 eagleeye.jpg
CATEGORIES:Fit und Freizeit,Kulturelle Veranstaltung
END:VEVENT
BEGIN:VTIMEZONE
TZID:Europe/Zurich
X-LIC-LOCATION:Europe/Zurich
BEGIN:DAYLIGHT
DTSTART:20260329T030000
TZOFFSETFROM:+0100
TZOFFSETTO:+0200
TZNAME:CEST
END:DAYLIGHT
END:VTIMEZONE
END:VCALENDAR