BEGIN:VCALENDAR
VERSION:2.0
PRODID:-//wp-events-plugin.com//6.6.5//EN
TZID:Europe/Zurich
X-WR-TIMEZONE:Europe/Zurich
BEGIN:VEVENT
UID:3450@test.iggh.ch
DTSTART;TZID=Europe/Zurich:20230909T200000
DTEND;TZID=Europe/Zurich:20230909T200000
DTSTAMP:20230911T141529Z
URL:https://test.iggh.ch/agenda/musikfestival-laquelle-se-passe-ailleurs-i
 n-gebaerdensprache/
SUMMARY:Berner Musikfestival: «Laquelle se passe ailleurs» in Gebärdensp
 rache
DESCRIPTION:Vier Performer:innen aus verschiedenen künstlerischen Diszipli
 nen werden über ihre Körper elektronisch miteinander verbunden. Der Ents
 tehungsprozess rührt an die Wurzeln künstlerischer Kreativität.\n\n\n\n
 Mais laquelle quoi? Was passiert da wo? Anderswo eben\, bloss nicht im ang
 estammten Bereich. In diesem Bühnenwerk sucht die Compagnie Mixt Forma ei
 nmal mehr nach der Hybridisierung künstlerischer Praktiken\, der interdis
 ziplinären Zusammenarbeit und der Integration verschiedener Medien und Te
 chnologien. Theater\, Tanz\, Musik und Literatur treffen in diesem kollekt
 iven kreativen Prozess aufeinander und werden miteinander verknüpft\, ele
 ktronisch\, aber über die Körper der Mitwirkenden.\n\n- 20 Uhr Einführu
 ngsgespräch in Gebärdensprache (Treffpunkt an der Bar der Dampfzentrale)
 \n- 21 Uhr Vorstellung mit Übertiteln (im Turbinensaal)\n- Ca. 22.15 Uhr 
 Besprechung in Gebärdensprache (im Anschluss an die Vorstellung im Turbin
 ensaal)\n\nTicket und mehr Informationen unter www.musikfestivalbern.ch\nB
 ild: Fondation Royaumont
ATTACH;FMTTYPE=image/jpeg:https://test.iggh.ch/wp-content/uploads/2023/07/
 000_Mixt_Forma___Fondation_Royaumont.jpg-preview3.jpg
CATEGORIES:Gebärdensprache DSGS,Induktive Höranlage,Kulturelle
 Veranstaltung,Veranstaltung
END:VEVENT
BEGIN:VTIMEZONE
TZID:Europe/Zurich
X-LIC-LOCATION:Europe/Zurich
BEGIN:DAYLIGHT
DTSTART:20230326T030000
TZOFFSETFROM:+0100
TZOFFSETTO:+0200
TZNAME:CEST
END:DAYLIGHT
END:VTIMEZONE
END:VCALENDAR