BEGIN:VCALENDAR
VERSION:2.0
PRODID:-//wp-events-plugin.com//7.2.3.1//EN
TZID:Europe/Zurich
X-WR-TIMEZONE:Europe/Zurich
BEGIN:VEVENT
UID:4301@test.iggh.ch
DTSTART;TZID=Europe/Zurich:20241212T190000
DTEND;TZID=Europe/Zurich:20241212T210000
DTSTAMP:20241216T084244Z
URL:https://test.iggh.ch/agenda/kofo-bern-procom/
SUMMARY:KoFo Bern: Neue Innovationen der Stiftung PROCOM
DESCRIPTION:Mit Gebärdensprachvideo: Wie kann die Zukunft der barrierefrei
 en Kommunikation aussehen?\n﻿\n\n\nAm 12. Dezember 2024 stellt die Stift
 ung PROCOM im Walkerhaus in Bern ihre neuesten Innovationen vor\, darunter
  die App myPROCOM\, das Inklusiv-Abo und Kulturdolmetschen. Geschäftsfüh
 rer Roman Probst stellt die neuesten Dienstleistungen vor und wirft einen 
 Blick in die Zukunft.\n\nIm Anschluss an die Präsentation folgt eine Disk
 ussion\, moderiert von Denise Ledermann. Zum Abschluss sind alle herzlich 
 zu einem Weihnachtsapéro eingeladen. Wir bitten um eine Anmeldung bis zum
  7. Dezember 2024 an kofo@iggh.ch.\n\nGebärdensprachdolmetschdienst und i
 nduktive Höranlage.\n\nAnmeldung bis 07. Dezember 2024 an kofo@iggh.ch\n\
 nWeitere Informationen im PDF Flyer
ATTACH;FMTTYPE=image/jpeg:https://test.iggh.ch/wp-content/uploads/2024/11/
 KoFo_Bern_Dezember_2024.jpg
CATEGORIES:FM-Höranlage,Gebärdensprache DSGS,Kulturelle Veranstaltung
LOCATION:#_LOCATIONNAME\, #_LOCATIONFULLLINE\, #_LOCATIONCOUNTRY
X-APPLE-STRUCTURED-LOCATION;VALUE=URI;X-ADDRESS=#_LOCATIONFULLLINE\, #_LOCA
 TIONCOUNTRY;X-APPLE-RADIUS=100;X-TITLE=#_LOCATIONNAME:geo:0,0
END:VEVENT
BEGIN:VTIMEZONE
TZID:Europe/Zurich
X-LIC-LOCATION:Europe/Zurich
BEGIN:STANDARD
DTSTART:20241027T020000
TZOFFSETFROM:+0200
TZOFFSETTO:+0100
TZNAME:CET
END:STANDARD
END:VTIMEZONE
END:VCALENDAR