BEGIN:VCALENDAR
VERSION:2.0
PRODID:-//wp-events-plugin.com//6.6.5//EN
TZID:Europe/Zurich
X-WR-TIMEZONE:Europe/Zurich
BEGIN:VEVENT
UID:5603@test.iggh.ch
DTSTART;TZID=Europe/Zurich:20260517T093000
DTEND;TZID=Europe/Zurich:20260517T093000
DTSTAMP:20260320T083841Z
URL:https://test.iggh.ch/agenda/katholischer-gottesdienst-mit-gongtrommel/
SUMMARY:Katholischer Gottesdienst mit Gongtrommel
DESCRIPTION:an der Waldmannstrasse 60\, Bern\n\nTeam Bern West mit Dolmetsc
 herin und Hans Ries (Gongtrommel)\nmit Pfarrerin Annemarie Hänni Untertit
 elung
CATEGORIES:Veranstaltung
END:VEVENT
BEGIN:VTIMEZONE
TZID:Europe/Zurich
X-LIC-LOCATION:Europe/Zurich
BEGIN:DAYLIGHT
DTSTART:20260329T030000
TZOFFSETFROM:+0100
TZOFFSETTO:+0200
TZNAME:CEST
END:DAYLIGHT
END:VTIMEZONE
END:VCALENDAR