BEGIN:VCALENDAR
VERSION:2.0
PRODID:-//wp-events-plugin.com//6.6.5//EN
TZID:Europe/Zurich
X-WR-TIMEZONE:Europe/Zurich
BEGIN:VEVENT
UID:3812@test.iggh.ch
DTSTART;TZID=Europe/Zurich:20231202T100000
DTEND;TZID=Europe/Zurich:20231202T100000
DTSTAMP:20231204T082946Z
URL:https://test.iggh.ch/agenda/jugendtreff-eagle-eye-ice-skating-in-bern/
SUMMARY:Jugendtreff Eagle Eye: Ice Skating in Bern
DESCRIPTION:Wir werden zuerst Schlittschuhlaufen gehen und auf dem Eisfeld 
 unsere Kunststücke vorführen :-). Anschliessend werden wir gemeinsam zum
  Walkerhaus gehen\, um dort unser Mittagessen zu geniessen und miteinander
  einen chilligen Nachmittag zu verbringen. Bei der Anmeldung könnt ihr an
 geben\, ob ihr Interesse habt\, mehr über queere Themen zu erfahren. Wir 
 werden Queer Swiss Deaf einladen\, die euch zu diesen Themen Informationen
  geben und eure Fragen beantworten können. Wenn wir noch Zeit &amp\; Lust
  haben\, können wir noch diverse Spiele wie KUBB\, UNO oder Werwölfle sp
 ielen.\n\n⦁ Treffpunkt ist um 10.00 Uhr am Bahnhof Bern beim Treffpun
 kt (grosser Würfel). Um 16.00 Uhr werdet ihr bei diesem Treffpunkt wie
 der abgeholt oder reist selbstständig nach Hause.🚄\n\n⦁ Nehmt euer M
 ittagessen (z.B. Sandwich) mit.\n\n⦁ Teilnehmerbeitrag: 5 SFr. 💸\n
 ⦁ Anmeldeschluss: Donnerstag\, 30. November 2023 📌\n\nFalls ihr dabe
 i sein möchtet\, meldet euch unter folgendem Link\n\nAnmeldung bei www.ea
 gleeye-treff.ch\n\nFalls ihr Fragen habt\, schreibt uns per Mail\, auf Ins
 tagram oder auf Facebook.\n\nWir freuen uns auf einen coolen Tag mit euch!
 \n\nHerzliche Grüsse\, das Eagle Eye Team\nLuca\, Yasmin\, Jeanine und El
 iane\n\ninfo@eagleeye-treff.ch | www.eagleeye-treff.ch
ATTACH;FMTTYPE=image/jpeg:https://test.iggh.ch/wp-content/uploads/2023/11/
 Ice_skating.jpg
CATEGORIES:Jugendtreff,Veranstaltung
END:VEVENT
BEGIN:VTIMEZONE
TZID:Europe/Zurich
X-LIC-LOCATION:Europe/Zurich
BEGIN:STANDARD
DTSTART:20231029T020000
TZOFFSETFROM:+0200
TZOFFSETTO:+0100
TZNAME:CET
END:STANDARD
END:VTIMEZONE
END:VCALENDAR