BEGIN:VCALENDAR
VERSION:2.0
PRODID:-//wp-events-plugin.com//6.6.5//EN
TZID:Europe/Zurich
X-WR-TIMEZONE:Europe/Zurich
BEGIN:VEVENT
UID:5616@test.iggh.ch
DTSTART;TZID=Europe/Zurich:20260411T080000
DTEND;TZID=Europe/Zurich:20260411T183000
DTSTAMP:20260331T112334Z
URL:https://test.iggh.ch/agenda/jassturnier/
SUMMARY:Gehörlosenverein Wallis: Jassturnier in Sion
DESCRIPTION:Zum ersten Mal organisiert der Gehörlosenverein Wallis ein Jas
 sturnier in Sitten. Ab acht Uhr morgens werden die Spielende mit Kaffee un
 d Gipfeli empfangen\, bevor um neun Uhr das Turnier mit vier Partien start
 et. Nach einem gemeinsamen Mittagessen geht es am Nachmittag weiter\, bis 
 bei einem gemütlichen Apéro die Preisverleihung folgt.\n\nPDF Programm u
 nd Anmeldung Jassturnier\nBildquelle: Jasskarten Französische und Deutsc
 h – Wikimedia Commons\, Lizenz: CC BY-SA 4.0.
ATTACH;FMTTYPE=image/jpeg:https://test.iggh.ch/wp-content/uploads/2026/03/
 1920px-Jasskarten_Franzoesische_und_Deutsch.jpg
CATEGORIES:Fit und Freizeit,Kulturelle Veranstaltung
END:VEVENT
BEGIN:VTIMEZONE
TZID:Europe/Zurich
X-LIC-LOCATION:Europe/Zurich
BEGIN:DAYLIGHT
DTSTART:20260329T030000
TZOFFSETFROM:+0100
TZOFFSETTO:+0200
TZNAME:CEST
END:DAYLIGHT
END:VTIMEZONE
END:VCALENDAR