BEGIN:VCALENDAR
VERSION:2.0
PRODID:-//wp-events-plugin.com//7.2.3.1//EN
TZID:Europe/Zurich
X-WR-TIMEZONE:Europe/Zurich
BEGIN:VEVENT
UID:1744@test.iggh.ch
DTSTART;TZID=Europe/Zurich:20221105T000000
DTEND;TZID=Europe/Zurich:20221105T000000
DTSTAMP:20220207T131000Z
URL:https://test.iggh.ch/agenda/gva-abt-kegeln-8/
SUMMARY:GVA - Abt. Kegeln
DESCRIPTION:In dem Schweizerischer Gehörlosen Kegelverband spielen die GVA
  Keglern im 12er Einzelmeisterschaft\n\nDie Zuschauer sind herzlich willko
 mmen!
CATEGORIES:Veranstaltung
END:VEVENT
BEGIN:VTIMEZONE
TZID:Europe/Zurich
X-LIC-LOCATION:Europe/Zurich
BEGIN:STANDARD
DTSTART:20221030T020000
TZOFFSETFROM:+0200
TZOFFSETTO:+0100
TZNAME:CET
END:STANDARD
END:VTIMEZONE
END:VCALENDAR