BEGIN:VCALENDAR
VERSION:2.0
PRODID:-//wp-events-plugin.com//7.2.3.1//EN
TZID:Europe/Zurich
X-WR-TIMEZONE:Europe/Zurich
BEGIN:VEVENT
UID:5478@test.iggh.ch
DTSTART;TZID=Europe/Zurich:20260610T180000
DTEND;TZID=Europe/Zurich:20260610T210000
DTSTAMP:20260112T094345Z
URL:https://test.iggh.ch/agenda/grillfest-bfsug-bern/
SUMMARY:Grillfest BFSUG Bern
DESCRIPTION:Die Beratung für Schwerhörige und Gehörlose Bern lädt zum G
 rillfest ein!\n\nGetränke und Salate werden offeriert.\n\nBitte das Grill
 gut wie Fleisch\, Fisch\, Gemüse oder Käse selber mitbringen.\n\nWer Lus
 t und Zeit hat\, kann gerne ein Dessert mitbringen!\n\nWann: Am Mittwoch\,
  10. Juni 2024 von 18:00 – 21:00\n\nWo: Vor dem Walkerhaus (bei Schlech
 twetter im Auditorium im Walkerhaus)\nBelpstrasse 24\, 3007 Bern\n\n–&gt
 \; Anmeldungen bis 15. Mai 2026 an vanessa.michlig@bfsug.ch\n\nWir verbri
 ngen einen gemütlichen Abend und haben Zeit zum Plaudern.\n\nWir freuen u
 ns auf ein Wiedersehen und den Austausch mit Euch!\n\nDas Team der BFSUG B
 ern
ATTACH;FMTTYPE=image/jpeg:https://test.iggh.ch/wp-content/uploads/2026/01/
 2026_GrillfestBFSUG_bild.jpeg
CATEGORIES:Veranstaltung
END:VEVENT
BEGIN:VTIMEZONE
TZID:Europe/Zurich
X-LIC-LOCATION:Europe/Zurich
BEGIN:DAYLIGHT
DTSTART:20260329T030000
TZOFFSETFROM:+0100
TZOFFSETTO:+0200
TZNAME:CEST
END:DAYLIGHT
END:VTIMEZONE
END:VCALENDAR