BEGIN:VCALENDAR
VERSION:2.0
PRODID:-//wp-events-plugin.com//6.6.5//EN
TZID:Europe/Zurich
X-WR-TIMEZONE:Europe/Zurich
BEGIN:VEVENT
UID:5607@test.iggh.ch
DTSTART;TZID=Europe/Zurich:20260422T150000
DTEND;TZID=Europe/Zurich:20260422T150000
DTSTAMP:20260320T085936Z
URL:https://test.iggh.ch/agenda/gespraechskreis-fragen-zur-bibel-20/
SUMMARY:Gesprächskreis "Fragen zur Bibel"
DESCRIPTION:Einmal pro Monat bieten wir einen Gesprächskreis für Interess
 ierte an\, welche einen offenen und eingehenden Blick in biblische Texte w
 agen wollen. Wir diskutieren Fragen\, Schwieriges und Freudevolles und las
 sen die Texte in Bezug auf unsere eigenen Erfahrungen sprechen.\n\nDer Ges
 prächskreis wird in Lautsprache kommuniziert.\n\nmit Pfarrerin Annemarie 
 Hänni
CATEGORIES:Veranstaltung
END:VEVENT
BEGIN:VTIMEZONE
TZID:Europe/Zurich
X-LIC-LOCATION:Europe/Zurich
BEGIN:DAYLIGHT
DTSTART:20260329T030000
TZOFFSETFROM:+0100
TZOFFSETTO:+0200
TZNAME:CEST
END:DAYLIGHT
END:VTIMEZONE
END:VCALENDAR