BEGIN:VCALENDAR
VERSION:2.0
PRODID:-//wp-events-plugin.com//7.2.3.1//EN
TZID:Europe/Zurich
X-WR-TIMEZONE:Europe/Zurich
BEGIN:VEVENT
UID:4742@test.iggh.ch
DTSTART;TZID=Europe/Zurich:20250430T140000
DTEND;TZID=Europe/Zurich:20250430T200000
DTSTAMP:20250502T072639Z
URL:https://test.iggh.ch/agenda/einladung-zum-tag-der-offenen-tuer-der-igg
 h-und-pro-audito-bern/
SUMMARY:Einladung zum Tag der offenen Tür der IGGH und Pro Audito Bern
DESCRIPTION:Am 30. April 2025 laden wir Sie herzlich ein\, die Büros der I
 nteressengemeinschaft Gehörlose und Hörbehinderte IGGH und unseres Partn
 ers Pro Audito Bern zu besichtigen! Wir freuen uns\, Ihnen von 14.00 bis 2
 0.00 Uhr unsere bewährten sowie neuen Angebote vorzustellen.\n\nProgramm:
 \n\n 	Ab 14.00 Uhr: Geniessen Sie bei einer Tasse Kaffee und Kuchen die Ge
 legenheit\, mehr über unsere Dienstleistungen zu erfahren.\n 	Ab 18.00 Uh
 r: Stossen Sie mit uns bei einem Apéro an und lassen Sie den späten Nach
 mittag in entspannter Atmosphäre ausklingen.\n\nDas Team der IGGH steht I
 hnen gerne zur Verfügung:\n\n 	Brigitte Schökle\, Geschäftsführerin\n 
 	Victor Senn\, Projekte und Öffentlichkeitsarbeit\n 	Rahel Wyss\, Praktik
 antin\n 	Der Vorstand: Theo Juker\, Präsident\, Christine Bütikofer\, Vi
 zepräsidentin\, und Giuseppe Ferrante\, Mitglied Vorstand\n\nVon Pro Audi
 to Bern freuen sich Christoph Künzler\, Präsident\, und einige Vorstand
 smitglieder auf den Austausch mit Ihnen:\nAnwesend 14.00 bis 16.00 Uhr: Ca
 role Mori\, Vorstandsmitglied und Sekretariat\, sowie Rolf Balli\, Vorstan
 dsmitglied\nAnwesend 16.00 bis 18.00 Uhr: Anči Grossenbacher\, Vorstandsm
 itglied\nAb 18.00 Uhr: Christoph Künzler\, Präsident\, und Antoinette v.
  Werdt\, Vorstandmitglied\n\nWir freuen uns sehr darauf\, Sie bei uns begr
 üssen zu dürfen!\n\nHerzliche Grüsse\nIhr IGGH-Team und Pro Audito Bern
 -Team\n\nPDF Flyer Tag der offenen Tür
ATTACH;FMTTYPE=image/jpeg:https://test.iggh.ch/wp-content/uploads/2025/04/
 Tag_der_offenen_Tuer_2025_V2-1030x734-1.jpg
CATEGORIES:Gebärdensprache,Kulturelle Veranstaltung,Veranstaltung
LOCATION:#_LOCATIONNAME\, #_LOCATIONFULLLINE\, #_LOCATIONCOUNTRY
X-APPLE-STRUCTURED-LOCATION;VALUE=URI;X-ADDRESS=#_LOCATIONFULLLINE\, #_LOCA
 TIONCOUNTRY;X-APPLE-RADIUS=100;X-TITLE=#_LOCATIONNAME:geo:0,0
END:VEVENT
BEGIN:VTIMEZONE
TZID:Europe/Zurich
X-LIC-LOCATION:Europe/Zurich
BEGIN:DAYLIGHT
DTSTART:20250330T030000
TZOFFSETFROM:+0100
TZOFFSETTO:+0200
TZNAME:CEST
END:DAYLIGHT
END:VTIMEZONE
END:VCALENDAR