BEGIN:VCALENDAR
VERSION:2.0
PRODID:-//wp-events-plugin.com//7.2.3.1//EN
TZID:Europe/Zurich
X-WR-TIMEZONE:Europe/Zurich
BEGIN:VEVENT
UID:1909@test.iggh.ch
DTSTART;TZID=Europe/Zurich:20220806T130000
DTEND;TZID=Europe/Zurich:20220806T130000
DTSTAMP:20220919T130205Z
URL:https://test.iggh.ch/agenda/bridget-riley-looking-and-seeing-doing-and
 -making/
SUMMARY:Bridget Riley: Looking and Seeing\, Doing and Making
DESCRIPTION:\nDie britische Künstlerin Bridget Riley gehört zu den promin
 entesten Vertreter:innen der abstrakten Malerei in der Nachkriegszeit. Im 
 Zentrum der Ausstellung steht eine Reise der Künstlerin nach Ägypten im 
 Jahr 1979\, die ihren Umgang mit Farbe entscheidend geprägt hat. Die Auss
 tellung zeichnet die künstlerische Entwicklung Rileys in der darauffolgen
 den zwanzigjährigen Schaffensperiode nach.\n\n\nEine alle Sinne anspreche
 nde Führung für Gäste mit und ohne Behinderung.\n\nMit Gebärdensprachd
 olmetscher:in und induktiver Höranlage.\n\nMehr Informationen und Anmeldu
 ng
ATTACH;FMTTYPE=image/jpeg:https://test.iggh.ch/wp-content/uploads/2022/05/
 content_bridget-riley_ka-6_1980_content.png
CATEGORIES:Gebärdensprach-Dolmetschdienst,Induktive Höranlage,Kulturelle
 Veranstaltung
END:VEVENT
BEGIN:VTIMEZONE
TZID:Europe/Zurich
X-LIC-LOCATION:Europe/Zurich
BEGIN:DAYLIGHT
DTSTART:20220327T030000
TZOFFSETFROM:+0100
TZOFFSETTO:+0200
TZNAME:CEST
END:DAYLIGHT
END:VTIMEZONE
END:VCALENDAR