BEGIN:VCALENDAR
VERSION:2.0
PRODID:-//wp-events-plugin.com//6.6.5//EN
TZID:Europe/Zurich
X-WR-TIMEZONE:Europe/Zurich
BEGIN:VEVENT
UID:5615@test.iggh.ch
DTSTART;TZID=Europe/Zurich:20260521T160000
DTEND;TZID=Europe/Zurich:20260521T160000
DTSTAMP:20260325T152007Z
URL:https://test.iggh.ch/agenda/bise-2026/
SUMMARY:Meine Identität\, meine Stärke und mein Weg: Das Bildungsseminar 
 2026
DESCRIPTION:«Gehörlos sein in der hörenden Welt» wird das Überthema de
 s Bildungsseminars sein. Denn im Privatleben sowie im Beruf und in der Ges
 ellschaft gibt es täglich immer wieder neue Herausforderungen und Themen\
 , die uns herausfordern. In der Gesellschaft werden immer mehr und immer u
 nterschiedlicherer Kompetenzen gefordert.\n﻿﻿\n\nIm Bildungsseminar k
 önnen wir die Bedingungen zu verschiedenen Themen gemeinsam mit anderen T
 eilnehmenden diskutieren. Wir fokussieren uns auf die Lebensqualität. Am 
 Bildungsseminar kann deine Identität und Persönlichkeitsentwicklung gest
 ärkt werden. Bringe deine eigenen Fragen zum Thema «Mit Gehörlosigkeit 
 in einer überwiegend hörenden Welt leben» mit.\n\nDatum: Donnerstag\, 2
 1. Mai 2024\, ab 16.00 Uhr bis Sonntag\, 24. Mai 2024\, 14.00 Uhr\n\nSemin
 arsprache: Gebärdensprache DSGS\n\nOrganisator: Schweizerischer Gehörlos
 enbund SGB-FSS\n\nLink zur Anmeldung\, Schweizerischer Gehörlosenbund SGB
 -FSS\n\nPDF Ausschreibung Nationales Bildungsseminar
ATTACH;FMTTYPE=image/jpeg:https://test.iggh.ch/wp-content/uploads/2026/03/
 Bildungsseminar.jpg
CATEGORIES:Kommunikation: Gebärdensprache,Kulturelle
 Veranstaltung,Seminar
END:VEVENT
BEGIN:VTIMEZONE
TZID:Europe/Zurich
X-LIC-LOCATION:Europe/Zurich
BEGIN:DAYLIGHT
DTSTART:20260329T030000
TZOFFSETFROM:+0100
TZOFFSETTO:+0200
TZNAME:CEST
END:DAYLIGHT
END:VTIMEZONE
END:VCALENDAR