BEGIN:VCALENDAR
VERSION:2.0
PRODID:-//wp-events-plugin.com//6.6.5//EN
TZID:Europe/Zurich
X-WR-TIMEZONE:Europe/Zurich
BEGIN:VEVENT
UID:2996@test.iggh.ch
DTSTART;TZID=Europe/Zurich:20230527T200000
DTEND;TZID=Europe/Zurich:20230527T200000
DTSTAMP:20230605T142612Z
URL:https://test.iggh.ch/agenda/beweggrund-run-in-gebaerdensprache/
SUMMARY:BewegGrund: RUN in Gebärdensprache
DESCRIPTION:Jede Person hat ihren eigenen Laufstil und ihr eigenes Tempo. W
 as ist dein Laufstil? RUN erforscht die Antwort auf diese Frage zusammen m
 it sieben Performer:innen. Jede:r von ihnen rennt metaphorisch auf verschi
 edene Dinge zu oder von ihnen weg.\n\nTextteile in verschiedenen Sprachen\
 , Übersetzung in Gebärdensprache DSGS.\n\nPDF Flyer Festival Beweggrund\
 nMehr Information von BewegGrund\nFoto: murielflorence.com
ATTACH;FMTTYPE=image/jpeg:https://test.iggh.ch/wp-content/uploads/2023/05/
 Screenshot-2023-05-08-151459.png
CATEGORIES:Gebärdensprache DSGS,Kulturelle Veranstaltung
END:VEVENT
BEGIN:VTIMEZONE
TZID:Europe/Zurich
X-LIC-LOCATION:Europe/Zurich
BEGIN:DAYLIGHT
DTSTART:20230326T030000
TZOFFSETFROM:+0100
TZOFFSETTO:+0200
TZNAME:CEST
END:DAYLIGHT
END:VTIMEZONE
END:VCALENDAR