BEGIN:VCALENDAR
VERSION:2.0
PRODID:-//wp-events-plugin.com//7.2.3.1//EN
TZID:Europe/Zurich
X-WR-TIMEZONE:Europe/Zurich
BEGIN:VEVENT
UID:4538@test.iggh.ch
DTSTART;TZID=Europe/Zurich:20250127T183000
DTEND;TZID=Europe/Zurich:20250623T200000
DTSTAMP:20250220T091148Z
URL:https://test.iggh.ch/event-recurring/bern-tinnitusgruppe-montag/
SUMMARY:Bern – Tinnitusgruppe Montag
DESCRIPTION:Tinnitusgruppe Bern Montag\n\nLeitung\nMartin Niederhauser\n\nD
 aten\nMontag\, 27.01. / 24.02. / 24.03. / 28.04. / 19.05. / 23.06.2025\n\
 nDauer\n18.30 - 20.00 Uhr\n\nOrt\nSiemenshaus\, Belpstrasse 26\, 3007 Bern
 \n\nKosten\nKostenlos\n\nAnmeldung\nInteressenten (auch Angehörige) sind 
 jederzeit willkommen. Wir bitten um eine Anmeldung bei Martin Niederhauser
 .
ATTACH;FMTTYPE=image/jpeg:https://test.iggh.ch/wp-content/uploads/2021/08/
 AdobeStock_216379246-scaled.jpeg
CATEGORIES:Tinnitusgruppen
LOCATION:#_LOCATIONNAME\, #_LOCATIONFULLLINE\, #_LOCATIONCOUNTRY
X-APPLE-STRUCTURED-LOCATION;VALUE=URI;X-ADDRESS=#_LOCATIONFULLLINE\, #_LOCA
 TIONCOUNTRY;X-APPLE-RADIUS=100;X-TITLE=#_LOCATIONNAME:geo:0,0
END:VEVENT
BEGIN:VTIMEZONE
TZID:Europe/Zurich
X-LIC-LOCATION:Europe/Zurich
BEGIN:STANDARD
DTSTART:20241027T020000
TZOFFSETFROM:+0200
TZOFFSETTO:+0100
TZNAME:CET
END:STANDARD
BEGIN:DAYLIGHT
DTSTART:20250330T030000
TZOFFSETFROM:+0100
TZOFFSETTO:+0200
TZNAME:CEST
END:DAYLIGHT
END:VTIMEZONE
END:VCALENDAR