BEGIN:VCALENDAR
VERSION:2.0
PRODID:-//wp-events-plugin.com//6.6.5//EN
TZID:Europe/Zurich
X-WR-TIMEZONE:Europe/Zurich
BEGIN:VEVENT
UID:3446@test.iggh.ch
DTSTART;TZID=Europe/Zurich:20231104T083000
DTEND;TZID=Europe/Zurich:20231104T083000
DTSTAMP:20231110T135828Z
URL:https://test.iggh.ch/agenda/6-baerner-xundheitstag-in-gebaerdensprache
 -und-mit-hoeranlage/
SUMMARY:6. Bärner Xundheitstag in Gebärdensprache und mit Höranlage
DESCRIPTION:Organisationen aus dem Gesundheitsbereich präsentieren einen T
 ag lang Massnahmen zur Gesundheitsförderung und Prävention\, unterstütz
 t durch Tests\, Messungen\, Informationsstände und Vorträge. Wir freuen 
 uns auf Sie! Kommen Sie vorbei und lassen Sie sich und Ihre Angehörigen 
 überraschen.\n\n\nAlle Vorträge und Publikumsgespräche werden in die Ge
 bärdensprache DSGS übersetzt. Für Teilnehmende mit Hörgeräten steht e
 ine induktive Höranlage zur Verfügung.\n\n\n\n\n\n\n\n08:30 Uhr Türöff
 nung. Sie können sich den ganzen Tag an den Ständen der Organisationen i
 nformieren und an Tests sowie Messungen teilnehmen.\n\n\n\n\n\n\n\n\n\n\n\
 n\n\n\n9:00 Uhr Herzrhythmusstörungen. Prof. Dr. med. Hildegard Tanner\, 
 Leitende Ärztin Rhythmologie und Elektrophysiologie\, Universitätsklinik
  für Kardiologie\, Inselspital\n\n\n\n\n\n\n\n\n\n\n\n\n\n\n10:00 Uhr Mit
  dem Tinnitus umgehen und leben lernen. Viviana Abati\, Psychologin und Ge
 rontologin\n\n\n\n\n\n\n\n\n\n\n\n\n\n\n11:00 Uhr Prävention\, Diagnostik
  und Therapie von Demenzerkrankungen. Prof. Dr. med. Stefan Klöppel\n\n\n
 \n\n\n\n\n\n\n\n\n\n\n\n12:05 Uhr Gleichgewichtsübungen und Krafttraining
  für die Beine. Julia Conzelmann\, dipl. Sportpädagogin\n\n\n\n\n\n\n\n\
 n\n\n\n\n\n\n13:15 Uhr Osteoporose - Diagnose\, Behandlung und Prävention
 . PD Dr. med. Judith Everts-Graber\, Rheumatologie und Innere Medizin FMH\
 n\n\n\n\n\n\n\n\n\n\n\n\n\n\n14:15 Uhr Vegan\, Low-Carb - Moderne Ernähru
 ngstrends und ihr Einfluss auf die Gesundheit von Menschen mit Diabetes. p
 ract. med. Nele Endner und  Franziska Koch Ernährungsberaterin SVDE\n\n\
 n\n\n\n\n\n\n\n\n\n\n\n\n15:30 Uhr Ende der Veranstaltung\n\n\n\n\n\n\n\nL
 ink zur induktiven Höranlage im Generationenhaus Bern\n\nwww.baernerxundh
 eitstag.ch\n\n&nbsp\;
ATTACH;FMTTYPE=image/jpeg:https://test.iggh.ch/wp-content/uploads/2023/07/
 AdobeStock_536517342.jpg
CATEGORIES:Gebärdensprache DSGS,Induktive Höranlage,Kulturelle
 Veranstaltung
END:VEVENT
BEGIN:VTIMEZONE
TZID:Europe/Zurich
X-LIC-LOCATION:Europe/Zurich
BEGIN:STANDARD
DTSTART:20231029T020000
TZOFFSETFROM:+0200
TZOFFSETTO:+0100
TZNAME:CET
END:STANDARD
END:VTIMEZONE
END:VCALENDAR