BEGIN:VCALENDAR
VERSION:2.0
PRODID:-//wp-events-plugin.com//6.6.5//EN
TZID:Europe/Zurich
X-WR-TIMEZONE:Europe/Zurich
BEGIN:VEVENT
UID:5522@test.iggh.ch
DTSTART;TZID=Europe/Zurich:20260410T180000
DTEND;TZID=Europe/Zurich:20260410T190000
DTSTAMP:20260409T130113Z
URL:https://test.iggh.ch/agenda/2636-line-dance-2026-04-10/
SUMMARY:2636 Line Dance
DESCRIPTION:Leitung\nSandra Schär\n\nKursdaten\nFreitag\, 13. März bis 15
 . Mai 2026\nKein Kurs am 03. April 2026 (Karfreitag)\n\nKursdauer\n18.00 -
  19.00 Uhr\, 9 × 1 Lektion\n\nKursort\nTanzlounge\, Neuengasse 24\, 3011 
 Bern\n\nKursgeld\nCHF 360.00 für Nichtmitglieder\nCHF 180.00 für Mitglie
 der IGGH / Pro Audito Bern\n\nAnmeldeschluss\nKurs findet definitiv statt\
 , weitere Anmeldungen jederzeit möglich\nBitte melden Sie sich bei der Ge
 schäftsstelle IGGH
ATTACH;FMTTYPE=image/jpeg:https://test.iggh.ch/wp-content/uploads/2026/03/
 20260130_181147-e1772722738171.jpg
CATEGORIES:Fit und Freizeit,Weitere Kurse
END:VEVENT
BEGIN:VTIMEZONE
TZID:Europe/Zurich
X-LIC-LOCATION:Europe/Zurich
BEGIN:DAYLIGHT
DTSTART:20260329T030000
TZOFFSETFROM:+0100
TZOFFSETTO:+0200
TZNAME:CEST
END:DAYLIGHT
END:VTIMEZONE
END:VCALENDAR