BEGIN:VCALENDAR
VERSION:2.0
PRODID:-//wp-events-plugin.com//6.6.5//EN
TZID:Europe/Zurich
X-WR-TIMEZONE:Europe/Zurich
BEGIN:VEVENT
UID:5598@test.iggh.ch
DTSTART;TZID=Europe/Zurich:20260717T173000
DTEND;TZID=Europe/Zurich:20260717T182000
DTSTAMP:20260316T111745Z
URL:https://test.iggh.ch/agenda/2615-bern-hoertraining-fuer-ci-und-hoersys
 tem-traegerinnen-intensivkurs-2026-07-17/
SUMMARY:2615 Bern – Hörtraining für CI- und Hörsystem-Träger:innen 
 – Intensivkurs
DESCRIPTION:Leitung\nBarbara Gasser\nDoris Grünig\n\nKursdaten\nMontag bis
  Freitag\, 13. bis 17. Juli 2026\n\nKursdauer\n17.30 – 18.20 Uhr\, 5 × 
 1 Lektion\n\nKursort\nIGGH Geschäftsstelle\, Siemenshaus\, Belpstrasse 26
 \, 3007 Bern\n\nKursgeld\nCHF 90.00 für Nichtmitglieder\nCHF 45.00 für M
 itglieder IGGH / Pro Audito Bern\n\nAnmeldeschluss\n14. Juni 2026\nIhre ra
 sche Kursanmeldung erleichtert uns die Kursplanung. Die Bestätigung erhal
 ten Sie nach Ablauf der Anmeldefrist.
ATTACH;FMTTYPE=image/jpeg:https://test.iggh.ch/wp-content/uploads/2025/10/
 AdobeStock_59281068-1.jpeg
CATEGORIES:Hörtraining für CI,Intensivkurs
END:VEVENT
BEGIN:VTIMEZONE
TZID:Europe/Zurich
X-LIC-LOCATION:Europe/Zurich
BEGIN:DAYLIGHT
DTSTART:20260329T030000
TZOFFSETFROM:+0100
TZOFFSETTO:+0200
TZNAME:CEST
END:DAYLIGHT
END:VTIMEZONE
END:VCALENDAR