BEGIN:VCALENDAR
VERSION:2.0
PRODID:-//wp-events-plugin.com//6.6.5//EN
TZID:Europe/Zurich
X-WR-TIMEZONE:Europe/Zurich
BEGIN:VEVENT
UID:5591@test.iggh.ch
DTSTART;TZID=Europe/Zurich:20260717T133000
DTEND;TZID=Europe/Zurich:20260717T153000
DTSTAMP:20260316T111054Z
URL:https://test.iggh.ch/agenda/2614-bern-dynamisches-lippenlesen-gedaecht
 nistraining-intensivkurs-2026-07-17/
SUMMARY:2614 Bern – Dynamisches Lippenlesen / Gedächtnistraining – Int
 ensivkurs
DESCRIPTION:Leitung\nBarbara Gasser\nDoris Grünig\n\nKursdaten\nMontag bis
  Freitag\, 13. bis 17. Juli 2026\n\nKursdauer\n13.30 – 15.30 Uhr\, 5 × 
 2 Lektionen\n\nKursort\nIGGH Geschäftsstelle\, Siemenshaus\, Belpstrasse 
 26\, 3007 Bern\n\nKursgeld\nCHF 200.00 für Nichtmitglieder\nCHF 100.00 f
 ür Mitglieder IGGH / Pro Audito Bern\n\nAnmeldeschluss\n14. Juni 2026\nIh
 re rasche Kursanmeldung erleichtert uns die Kursplanung. Die Bestätigung 
 erhalten Sie nach Ablauf der Anmeldefrist.
ATTACH;FMTTYPE=image/jpeg:https://test.iggh.ch/wp-content/uploads/2025/10/
 AdobeStock_59281132.jpeg
CATEGORIES:Dynamisches Lippenlesen,Gedächtnistraining,Intensivkurs
END:VEVENT
BEGIN:VTIMEZONE
TZID:Europe/Zurich
X-LIC-LOCATION:Europe/Zurich
BEGIN:DAYLIGHT
DTSTART:20260329T030000
TZOFFSETFROM:+0100
TZOFFSETTO:+0200
TZNAME:CEST
END:DAYLIGHT
END:VTIMEZONE
END:VCALENDAR