BEGIN:VCALENDAR
VERSION:2.0
PRODID:-//wp-events-plugin.com//7.2.3.1//EN
TZID:Europe/Zurich
X-WR-TIMEZONE:Europe/Zurich
BEGIN:VEVENT
UID:5195@test.iggh.ch
DTSTART;TZID=Europe/Zurich:20260416T173000
DTEND;TZID=Europe/Zurich:20260416T182000
DTSTAMP:20251030T072826Z
URL:https://test.iggh.ch/agenda/2612-bern-hoertraining-fuer-ci-und-hoersys
 tem-traegerinnen-intensivkurs-2026-04-16/
SUMMARY:2612 Bern – Hörtraining für CI- und Hörsystem-Träger:innen 
 – Intensivkurs
DESCRIPTION:Leitung\nBarbara Gasser\nDoris Grünig\n\nKursdaten\nMontag bis
  Freitag\, 13. bis 17. April 2026\n\nKursdauer\n17.30 – 18.20 Uhr\, 5 ×
  1 Lektion\n\nKursort\nIGGH Geschäftsstelle\, Siemenshaus\, Belpstrasse 2
 6\, 3007 Bern\n\nKursgeld\nCHF 90.00 für Nichtmitglieder\nCHF 45.00 für 
 Mitglieder IGGH / Pro Audito Bern\n\nAnmeldeschluss\n15. März 2026\nIhre 
 rasche Kursanmeldung erleichtert uns die Kursplanung. Die Bestätigung erh
 alten Sie nach Ablauf der Anmeldefrist.
ATTACH;FMTTYPE=image/jpeg:https://test.iggh.ch/wp-content/uploads/2025/10/
 AdobeStock_59281068-1.jpeg
CATEGORIES:Hörtraining für CI,Intensivkurs
LOCATION:#_LOCATIONNAME\, #_LOCATIONFULLLINE\, #_LOCATIONCOUNTRY
X-APPLE-STRUCTURED-LOCATION;VALUE=URI;X-ADDRESS=#_LOCATIONFULLLINE\, #_LOCA
 TIONCOUNTRY;X-APPLE-RADIUS=100;X-TITLE=#_LOCATIONNAME:geo:0,0
END:VEVENT
BEGIN:VTIMEZONE
TZID:Europe/Zurich
X-LIC-LOCATION:Europe/Zurich
BEGIN:DAYLIGHT
DTSTART:20260329T030000
TZOFFSETFROM:+0100
TZOFFSETTO:+0200
TZNAME:CEST
END:DAYLIGHT
END:VTIMEZONE
END:VCALENDAR