BEGIN:VCALENDAR
VERSION:2.0
PRODID:-//wp-events-plugin.com//7.2.3.1//EN
TZID:Europe/Zurich
X-WR-TIMEZONE:Europe/Zurich
BEGIN:VEVENT
UID:5127@test.iggh.ch
DTSTART;TZID=Europe/Zurich:20260223T140000
DTEND;TZID=Europe/Zurich:20260223T160000
DTSTAMP:20260112T100239Z
URL:https://test.iggh.ch/agenda/2608-biel-hoertraining-mit-lippenlesen-202
 6-02-23/
SUMMARY:2608 Biel – Hörtraining mit Lippenlesen
DESCRIPTION:Leitung\nDoris Grünig\n\nKursdaten\nMontag\, 23. Februar bis 3
 0. März 2026\n\nKursdauer\n14.00 - 16.00 Uhr\, 6 × 2 Lektionen\n\nKursor
 t\nSelbsthilfe BE Beratungszentrum\, Bahnhofstrasse 30\, 2502 Biel/Bienne\
 n\n\nKursgeld\nCHF 216.00 für Nichtmitglieder\nCHF 108.00 für Mitglieder
  IGGH / Pro Audito Bern\n\nAnmeldeschluss\n21. September 2025\nIhre rasche
  Kursanmeldung erleichtert uns die Kursplanung. Die Bestätigung erhalten 
 Sie nach Ablauf der Anmeldefrist.\n\n 
ATTACH;FMTTYPE=image/jpeg:https://test.iggh.ch/wp-content/uploads/2025/10/
 AdobeStock_183482831.jpg
CATEGORIES:Hörtraining mit Lippenlesen
LOCATION:#_LOCATIONNAME\, #_LOCATIONFULLLINE\, #_LOCATIONCOUNTRY
X-APPLE-STRUCTURED-LOCATION;VALUE=URI;X-ADDRESS=#_LOCATIONFULLLINE\, #_LOCA
 TIONCOUNTRY;X-APPLE-RADIUS=100;X-TITLE=#_LOCATIONNAME:geo:0,0
END:VEVENT
BEGIN:VTIMEZONE
TZID:Europe/Zurich
X-LIC-LOCATION:Europe/Zurich
BEGIN:STANDARD
DTSTART:20251026T020000
TZOFFSETFROM:+0200
TZOFFSETTO:+0100
TZNAME:CET
END:STANDARD
END:VTIMEZONE
END:VCALENDAR