BEGIN:VCALENDAR
VERSION:2.0
PRODID:-//wp-events-plugin.com//7.2.3.1//EN
TZID:Europe/Zurich
X-WR-TIMEZONE:Europe/Zurich
BEGIN:VEVENT
UID:4337@test.iggh.ch
DTSTART;TZID=Europe/Zurich:20250310T140000
DTEND;TZID=Europe/Zurich:20250310T160000
DTSTAMP:20241111T110239Z
URL:https://test.iggh.ch/agenda/2507-biel-bienne-hoertraining-mit-lippenle
 sen-2025-03-10/
SUMMARY:2507 Biel/Bienne – Hörtraining mit Lippenlesen
DESCRIPTION:Leitung\nDoris Grünig\n\nKursdaten\nMontag\, 3. März – 7. A
 pril 2025\n\nKursdauer\n14.00 - 16.00 Uhr\, 6 × 2 Lektionen\n\nKursort\nS
 elbsthilfe BE Beratungszentrum\, Bahnhofstrasse 30\, 2502 Biel/Bienne\n\n\
 nKursgeld\nCHF 216.00 für Nichtmitglieder\nCHF 108.00 für Mitglieder IGG
 H / Pro Audito Bern\n\nAnmeldeschluss\n2. Februar 2025\n\n 
ATTACH;FMTTYPE=image/jpeg:https://test.iggh.ch/wp-content/uploads/2022/10/
 AdobeStock_434385200-Lippenblesenkurse-1.jpeg
CATEGORIES:Hörtraining mit Lippenlesen
LOCATION:#_LOCATIONNAME\, #_LOCATIONFULLLINE\, #_LOCATIONCOUNTRY
X-APPLE-STRUCTURED-LOCATION;VALUE=URI;X-ADDRESS=#_LOCATIONFULLLINE\, #_LOCA
 TIONCOUNTRY;X-APPLE-RADIUS=100;X-TITLE=#_LOCATIONNAME:geo:0,0
END:VEVENT
BEGIN:VTIMEZONE
TZID:Europe/Zurich
X-LIC-LOCATION:Europe/Zurich
BEGIN:STANDARD
DTSTART:20241027T020000
TZOFFSETFROM:+0200
TZOFFSETTO:+0100
TZNAME:CET
END:STANDARD
END:VTIMEZONE
END:VCALENDAR