BEGIN:VCALENDAR
VERSION:2.0
PRODID:-//wp-events-plugin.com//7.2.3.1//EN
TZID:Europe/Zurich
X-WR-TIMEZONE:Europe/Zurich
BEGIN:VEVENT
UID:4334@test.iggh.ch
DTSTART;TZID=Europe/Zurich:20250402T140000
DTEND;TZID=Europe/Zurich:20250402T160000
DTSTAMP:20241111T105649Z
URL:https://test.iggh.ch/agenda/2506-burgdorf-hoertraining-mit-lippenlesen
 -2025-04-02/
SUMMARY:2506 Burgdorf – Hörtraining mit Lippenlesen
DESCRIPTION:Leitung\nDoris Grünig\n\nKursdaten\nMittwoch\, 26. Februar –
  2. April 2025\n\nKursdauer\n14.00 - 16.00 Uhr\, 6 × 2 Lektionen\n\nKurso
 rt\nKirchgemeindehaus\, Lyssachstrasse 2\, 3401 Burgdorf\n\n\nKursgeld\nCH
 F 216.00 für Nichtmitglieder\nCHF 108.00 für Mitglieder IGGH / Pro Audit
 o Bern\n\nAnmeldeschluss\n26. Januar 2025\n
ATTACH;FMTTYPE=image/jpeg:https://test.iggh.ch/wp-content/uploads/2022/10/
 AdobeStock_434385200-Lippenblesenkurse-1.jpeg
CATEGORIES:Hörtraining mit Lippenlesen
LOCATION:#_LOCATIONNAME\, #_LOCATIONFULLLINE\, #_LOCATIONCOUNTRY
X-APPLE-STRUCTURED-LOCATION;VALUE=URI;X-ADDRESS=#_LOCATIONFULLLINE\, #_LOCA
 TIONCOUNTRY;X-APPLE-RADIUS=100;X-TITLE=#_LOCATIONNAME:geo:0,0
END:VEVENT
BEGIN:VTIMEZONE
TZID:Europe/Zurich
X-LIC-LOCATION:Europe/Zurich
BEGIN:DAYLIGHT
DTSTART:20250330T030000
TZOFFSETFROM:+0100
TZOFFSETTO:+0200
TZNAME:CEST
END:DAYLIGHT
END:VTIMEZONE
END:VCALENDAR