BEGIN:VCALENDAR
VERSION:2.0
PRODID:-//wp-events-plugin.com//7.2.3.1//EN
TZID:Europe/Zurich
X-WR-TIMEZONE:Europe/Zurich
BEGIN:VEVENT
UID:4141@test.iggh.ch
DTSTART;TZID=Europe/Zurich:20241011T140000
DTEND;TZID=Europe/Zurich:20241011T160000
DTSTAMP:20240918T152059Z
URL:https://test.iggh.ch/agenda/2454-huttwil-hoertraining-mit-lippenlesen-
 2024-10-11/
SUMMARY:2454 Huttwil – Hörtraining mit Lippenlesen
DESCRIPTION:Leitung\nDoris Grünig\n\nKursdaten\nFreitag\, 11. Oktober – 
 6. Dezember 2024\nKein Kurs am 1. November 2024\n\nKursdauer\n14.00 - 16.0
 0 Uhr\, 8 × 2 Lektionen\n\nKursort\nHeilsarmee Huttwil\, Höhenweg 6\, 49
 50 Huttwil\n\nKursgeld\nCHF 288.00 für Nichtmitglieder\nCHF 144.00 für M
 itglieder IGGH / Pro Audito Bern\n\nAnmeldeschluss\nKurs findet definitv s
 tatt\, weitere Anmeldungen auf Anfrage möglich\n\n 
ATTACH;FMTTYPE=image/jpeg:https://test.iggh.ch/wp-content/uploads/2022/10/
 AdobeStock_434385200-Lippenblesenkurse-1.jpeg
CATEGORIES:Hörtraining mit Lippenlesen
LOCATION:#_LOCATIONNAME\, #_LOCATIONFULLLINE\, #_LOCATIONCOUNTRY
X-APPLE-STRUCTURED-LOCATION;VALUE=URI;X-ADDRESS=#_LOCATIONFULLLINE\, #_LOCA
 TIONCOUNTRY;X-APPLE-RADIUS=100;X-TITLE=#_LOCATIONNAME:geo:0,0
END:VEVENT
BEGIN:VTIMEZONE
TZID:Europe/Zurich
X-LIC-LOCATION:Europe/Zurich
BEGIN:DAYLIGHT
DTSTART:20240331T030000
TZOFFSETFROM:+0100
TZOFFSETTO:+0200
TZNAME:CEST
END:DAYLIGHT
END:VTIMEZONE
END:VCALENDAR