BEGIN:VCALENDAR
VERSION:2.0
PRODID:-//wp-events-plugin.com//6.6.5//EN
TZID:Europe/Zurich
X-WR-TIMEZONE:Europe/Zurich
BEGIN:VEVENT
UID:3273@test.iggh.ch
DTSTART;TZID=Europe/Zurich:20230821T091500
DTEND;TZID=Europe/Zurich:20230821T104500
DTSTAMP:20230627T064630Z
URL:https://test.iggh.ch/agenda/2384-bern-englisch-b2-3-quartal-2023-2023-
 08-21/
SUMMARY:2384 Bern – Englisch B2 - 3. Quartal 2023
DESCRIPTION:\n\nLeitung\n\n\nHans Stalder\n\nKursdaten\nMontag\, 07. August
  – 11. September 2023\n\nKursdauer\n09.15 - 10.45 Uhr\, 6 × 2 Lektionen
 \n\nKursort\nWalkerhaus\, Belpstrasse 24\, 3007 Bern\n\nKursgeld\nCHF 240.
 00 für Nichtmitglieder\nCHF 120.00 für Mitglieder IGGH / Pro Audito\n\nA
 nmeldeschluss\n02. Juli 2023\nIhre rasche Kursanmeldung erleichtert uns di
 e Kursplanung.\nKursanmeldungen auch nach dem offiziellen Anmeldeschluss n
 och möglich.\n\nWeitere Informationen\nKostenlose Schnupperlektion jederz
 eit möglich!
ATTACH;FMTTYPE=image/jpeg:https://test.iggh.ch/wp-content/uploads/2022/11/
 AdobeStock_48866246-scaled.jpeg
CATEGORIES:Englisch
END:VEVENT
BEGIN:VTIMEZONE
TZID:Europe/Zurich
X-LIC-LOCATION:Europe/Zurich
BEGIN:DAYLIGHT
DTSTART:20230326T030000
TZOFFSETFROM:+0100
TZOFFSETTO:+0200
TZNAME:CEST
END:DAYLIGHT
END:VTIMEZONE
END:VCALENDAR