BEGIN:VCALENDAR
VERSION:2.0
PRODID:-//wp-events-plugin.com//7.2.3.1//EN
TZID:Europe/Zurich
X-WR-TIMEZONE:Europe/Zurich
BEGIN:VEVENT
UID:3188@test.iggh.ch
DTSTART;TZID=Europe/Zurich:20231016T133000
DTEND;TZID=Europe/Zurich:20231016T133000
DTSTAMP:20230626T143011Z
URL:https://test.iggh.ch/agenda/2354-langnau-hoertraining-mit-lippenlesen-
 2023-10-16/
SUMMARY:2354 Langnau – Hörtraining mit Lippenlesen
DESCRIPTION:\n\nLeitung\n\n\nBarbara Gasser\n\nKursdaten\nMontag\, 16. Okto
 ber – 20. November 2023\n\nKursdauer\n13.30 - 15.20 Uhr\, 6 × 2 Lektion
 en\n\nKursort\nEvang.-ref. Kirchgemeindehaus\, 3550 Langnau\n\n\nKursgeld\
 nCHF 216.00 für Nichtmitglieder\nCHF 108.00 für Mitglieder IGGH / Pro Au
 dito\nCHF 172.00 für IV-Rentner oder AHV-Rentner mit EL\n\nAnmeldeschluss
 \n17. September 2023\nIhre rasche Kursanmeldung erleichtert uns die Kurspl
 anung\n\n 
ATTACH;FMTTYPE=image/jpeg:https://test.iggh.ch/wp-content/uploads/2022/10/
 AdobeStock_434385200-Lippenblesenkurse-1.jpeg
CATEGORIES:Hörtraining mit Lippenlesen
END:VEVENT
BEGIN:VTIMEZONE
TZID:Europe/Zurich
X-LIC-LOCATION:Europe/Zurich
BEGIN:DAYLIGHT
DTSTART:20230326T030000
TZOFFSETFROM:+0100
TZOFFSETTO:+0200
TZNAME:CEST
END:DAYLIGHT
END:VTIMEZONE
END:VCALENDAR