BEGIN:VCALENDAR
VERSION:2.0
PRODID:-//wp-events-plugin.com//7.2.3.1//EN
TZID:Europe/Zurich
X-WR-TIMEZONE:Europe/Zurich
BEGIN:VEVENT
UID:2124@test.iggh.ch
DTSTART;TZID=Europe/Zurich:20220809T180000
DTEND;TZID=Europe/Zurich:20220809T180000
DTSTAMP:20220712T072145Z
URL:https://test.iggh.ch/agenda/2286-muenchenbuchsee-djembe-2022-08-09/
SUMMARY:2286 Münchenbuchsee – Djembé
DESCRIPTION:Leitung\nManuel Pasquinelli\n\nKursdaten\nDienstag\, 09.08 /23.
 08. /06.09. /20.09. /11.10. /25.10. /08.11. /22.11. /06.12. /20.12. 2022\n
 \nKursdauer\n18.00 – 19.00 Uhr\, 10 x 1 Lektion\n\nKursort\nPädagogisch
 es Zentrum für Hören und Sprache HSM\, Klosterweg 7\, 3053 Münchenbuchs
 ee\n\nKursgeld\nCHF 400.00 für Nichtmitglieder\nCHF 200.00 für Mitgliede
 r IGGH / pro audito\n\nAnmeldeschluss\n08. Juli 2022\n\nWeitere Informatio
 nen\nNachträgliches Einsteigen auf Anfrage möglich.
ATTACH;FMTTYPE=image/jpeg:https://test.iggh.ch/wp-content/uploads/2021/05/
 djembe-2413970_1920.jpg
CATEGORIES:Djembé,Fit und Freizeit
END:VEVENT
BEGIN:VTIMEZONE
TZID:Europe/Zurich
X-LIC-LOCATION:Europe/Zurich
BEGIN:DAYLIGHT
DTSTART:20220327T030000
TZOFFSETFROM:+0100
TZOFFSETTO:+0200
TZNAME:CEST
END:DAYLIGHT
END:VTIMEZONE
END:VCALENDAR