BEGIN:VCALENDAR
VERSION:2.0
PRODID:-//wp-events-plugin.com//7.2.3.1//EN
TZID:Europe/Zurich
X-WR-TIMEZONE:Europe/Zurich
BEGIN:VEVENT
UID:1310@test.iggh.ch
DTSTART;TZID=Europe/Zurich:20220125T180000
DTEND;TZID=Europe/Zurich:20220125T180000
DTSTAMP:20211202T080947Z
URL:https://test.iggh.ch/agenda/2202-bern-hoertraining-mit-lippenlesen-2-2
 022-01-25/
SUMMARY:2203 Bern – Hörtraining mit Lippenlesen
DESCRIPTION:2203 Bern - Hörtraining mit Lippenlesen\nfür Neueinsteigende 
 und Fortgeschrittene\nLeitung\nBarbara Gasser\n\nKursdaten\nDienstag\, 25.
  Januar bis 29. März 2022\nKein Kurs am 08. Februar und 15. März 2022\n\
 nKursdauer\n18.00 – 19.20 Uhr\, 8 × 1.5 Lektionen\n\nKursort\nWalkerhau
 s\, Belpstrasse 24\, 3007 Bern\n\nKursgeld\nCHF 216.00 für Nichtmitgliede
 r\nCHF 108.00 für Mitglieder IGGH / pro audito\nCHF 172.00 für IV-Rentne
 r oder AHV-Rentner mit EL\n\nAnmeldeschluss\n14. Dezember 2021\n\nWeitere 
 Informationen\nKostenlose Schnupperlektion jederzeit möglich!
ATTACH;FMTTYPE=image/jpeg:https://test.iggh.ch/wp-content/uploads/2021/05/
 dreamstime_m_180389937.jpg
CATEGORIES:Hörtraining mit Lippenlesen
END:VEVENT
BEGIN:VTIMEZONE
TZID:Europe/Zurich
X-LIC-LOCATION:Europe/Zurich
BEGIN:STANDARD
DTSTART:20211031T020000
TZOFFSETFROM:+0200
TZOFFSETTO:+0100
TZNAME:CET
END:STANDARD
END:VTIMEZONE
END:VCALENDAR